BEGIN:VCALENDAR
VERSION:2.0
PRODID:-//rfr/addtomycal//NONSGML v1.0//EN
BEGIN:VEVENT
UID:rouen.fr
DTSTAMP:20260421T021432Z
DTSTART:20241229T133000Z
DTEND:20241229T173000Z
SUMMARY:Atelier - Retrogaming
DESCRIPTION:atelier - Rouen givrée
 - enfant - Gratuit, dans la limite des places disponibles
 - Rens. : https:
LOCATION:
END:VEVENT
END:VCALENDAR
