BEGIN:VCALENDAR
VERSION:2.0
PRODID:-//rfr/addtomycal//NONSGML v1.0//EN
BEGIN:VEVENT
UID:rouen.fr
DTSTAMP:20260419T133556Z
DTSTART:20250110T080000Z
DTEND:20250110T160000Z
SUMMARY:Salon de l'Étudiant
DESCRIPTION:salon - Salon
 - tout public - Gratuit, sur inscription
 - Rens. : https:
LOCATION:
END:VEVENT
END:VCALENDAR
