BEGIN:VCALENDAR
VERSION:2.0
PRODID:-//rfr/addtomycal//NONSGML v1.0//EN
BEGIN:VEVENT
UID:rouen.fr
DTSTAMP:20260420T055924Z
DTSTART:20250118T193000Z
DTEND:20250118T193000Z
SUMMARY:Nuit de la poésie
DESCRIPTION:rencontre - Événement
 - tout public - Gratuit
 - Rens. : par téléphone au 02 35 98 74 78, par mail à billetterie@operaderouen.fr et sur www.operaderouen.fr
 - 4e édition
Avec les poétesses Anna Ayanoglou, Valentina Casadei et Emné Nasereddine

LOCATION:Théâtre des Arts, 7 rue du Docteur Rambert (salle Saint-Saëns)
, Rouen
END:VEVENT
END:VCALENDAR
