BEGIN:VCALENDAR
VERSION:2.0
PRODID:-//rfr/addtomycal//NONSGML v1.0//EN
BEGIN:VEVENT
UID:rouen.fr
DTSTAMP:20260420T074039Z
DTSTART:20250122T093000Z
DTEND:20250122T093000Z
SUMMARY:Prix littéraire de la Maison des aînés
DESCRIPTION:rencontre - Club de lecture
 - senior - Sur inscription au 02 32 08 60 80
 -  - Animé par Thierry Poré
6 livres sélectionnés par le médiateur culturel seront proposés en prêt
En vue de l'élection du livre préféré de la Maison des aînés

LOCATION:Maison des aînés, 24 rue des Arsins, Rouen
END:VEVENT
END:VCALENDAR
