BEGIN:VCALENDAR
VERSION:2.0
PRODID:-//rfr/addtomycal//NONSGML v1.0//EN
BEGIN:VEVENT
UID:rouen.fr
DTSTAMP:20260424T175005Z
DTSTART:20250125T090000Z
DTEND:20250125T110000Z
SUMMARY:Café mémoire
DESCRIPTION:rencontre - Rencontre
 - tout public - Gratuit
 - Rens. : 02 35 63 13 95
Contact@francealzheimer76.fr
www.francealzheimer76.org
 - Proposé par l'association France Alzheimer 76

LOCATION:Café de l'Époque, 43 rue Armand-Carrel
, Rouen
END:VEVENT
END:VCALENDAR
