BEGIN:VCALENDAR
VERSION:2.0
PRODID:-//rfr/addtomycal//NONSGML v1.0//EN
BEGIN:VEVENT
UID:rouen.fr
DTSTAMP:20260421T192210Z
DTSTART:20250201T090000Z
DTEND:20250201T180000Z
SUMMARY:Salon des parentalités
DESCRIPTION:salon - Salon
 - tout public - Gratuit
 - Rens. et programme détaillé sur https:
LOCATION:
END:VEVENT
END:VCALENDAR
