BEGIN:VCALENDAR
VERSION:2.0
PRODID:-//rfr/addtomycal//NONSGML v1.0//EN
BEGIN:VEVENT
UID:rouen.fr
DTSTAMP:20260420T170622Z
DTSTART:20250205T163000Z
DTEND:20250205T183000Z
SUMMARY:RDV Asso - La responsabilité des dirigeants
DESCRIPTION:rencontre - Rencontre
 - tout public - Gratuit, sur inscription
 - Rens. et inscriptions : par téléphone au 02 76 08 89 20, ou par mail à rouen.rdvasso@rouen.fr
 - Par PSL76
Public : responsables, bénévoles des associations ou porteurs de projet

LOCATION:Maison Saint-Sever, 10
END:VEVENT
END:VCALENDAR
