BEGIN:VCALENDAR
VERSION:2.0
PRODID:-//rfr/addtomycal//NONSGML v1.0//EN
BEGIN:VEVENT
UID:rouen.fr
DTSTAMP:20260421T155913Z
DTSTART:20250213T130000Z
DTEND:20250213T130000Z
SUMMARY:Atelier cuisine chinoise
DESCRIPTION:atelier - Atelier
 - tout public - Gratuit, sur inscription
 - Rens. : 02 35 08 88 99
 - À l'occasion du Nouvel an chinois
Proposé par Thomas Sbasnik

LOCATION:Centre André-Malraux, rue François Couperin, Rouen
END:VEVENT
END:VCALENDAR
