BEGIN:VCALENDAR
VERSION:2.0
PRODID:-//rfr/addtomycal//NONSGML v1.0//EN
BEGIN:VEVENT
UID:rouen.fr
DTSTAMP:20260420T040637Z
DTSTART:20250227T083000Z
DTEND:20250227T110000Z
SUMMARY:Initiation à la sophrologie
DESCRIPTION:atelier - Atelier
 - senior - Gratuit, sur inscription
 - Inscription par téléphone auprès de l'association au 06 65 94 86 40
 - Proposé par l'association Nous Tous

LOCATION:MJC Rive gauche, place de Hanovre, Rouen
END:VEVENT
END:VCALENDAR
