BEGIN:VCALENDAR
VERSION:2.0
PRODID:-//rfr/addtomycal//NONSGML v1.0//EN
BEGIN:VEVENT
UID:rouen.fr
DTSTAMP:20260421T230414Z
DTSTART:20250308T090000Z
DTEND:20250308T150000Z
SUMMARY:Portes ouvertes - Hôtel de police de Rouen
DESCRIPTION:salon - Portes ouvertes
 - tout public - Gratuit, sur inscription
 - Inscriptions par mail à dipn76-portes-ouvertes@interieur.gouv.fr
 - Découvrez les métiers de la Police nationale et la réserve opérationnelle

LOCATION:Hôtel de police de Rouen, 20 rue Brisout de Barneville
, Rouen
END:VEVENT
END:VCALENDAR
