BEGIN:VCALENDAR
VERSION:2.0
PRODID:-//rfr/addtomycal//NONSGML v1.0//EN
BEGIN:VEVENT
UID:rouen.fr
DTSTAMP:20260420T074915Z
DTSTART:20250308T090000Z
DTEND:20250308T170000Z
SUMMARY:La journée Maniv'Elles - À bicylette, gagnez en autonomie !
DESCRIPTION:rencontre - Rencontre
 - tout public - Gratuit, sur inscription
 - Rens. et inscriptions : sur place, par téléphone au 09 52 52 67 11 et par mail à contact@guidoline.com
 - À l'occasion de la Journée internationale des droits des femmes
Conférence, informations, auto-réparation de vélos, vente de vélos d'occasion, repas partagé et mode de garde pour les enfants

LOCATION:Guidoline, 36 rue Molière
, Rouen
END:VEVENT
END:VCALENDAR
