BEGIN:VCALENDAR
VERSION:2.0
PRODID:-//rfr/addtomycal//NONSGML v1.0//EN
BEGIN:VEVENT
UID:rouen.fr
DTSTAMP:20260420T072830Z
DTSTART:20250309T143000Z
DTEND:20250309T143000Z
SUMMARY:Offrandes musicales - Frédéric Munoz
DESCRIPTION:musique - Concert
 - tout public - Entrée libre
 - Rens. : par téléphone au 06 16 38 13 68, par mail à  orguesrouen76@gmail.com et sur http:
LOCATION:
END:VEVENT
END:VCALENDAR
