BEGIN:VCALENDAR
VERSION:2.0
PRODID:-//rfr/addtomycal//NONSGML v1.0//EN
BEGIN:VEVENT
UID:rouen.fr
DTSTAMP:20260423T054322Z
DTSTART:20250310T133000Z
DTEND:20250310T133000Z
SUMMARY:Violences & Justice
DESCRIPTION:conférence - Rouen donne des elles
 - tout public - Sur inscription
 - Rens. et inscriptions en ligne sur : https:
LOCATION:
END:VEVENT
END:VCALENDAR
