BEGIN:VCALENDAR
VERSION:2.0
PRODID:-//rfr/addtomycal//NONSGML v1.0//EN
BEGIN:VEVENT
UID:rouen.fr
DTSTAMP:20260425T200745Z
DTSTART:20250312T140000Z
DTEND:20250312T140000Z
SUMMARY:L'histoire des écoles élémentaires de l'Aître Saint-Maclou (éclairage sur l'éducation des filles du 17e au 20e siècle)
DESCRIPTION:conférence - Conférence
 - tout public - Gratuit, sur réservation
 - Rens. et réserv. : par téléphone au 02 35 07 66 61, par mail à munae-reservation@reseau-canope.fr et sur www.reseau-canope.fr
 - Par Sylvie Leprince, ancienne conservatrice des monuments historiques à la Direction régionale des affaires culturelles
Nombre de places limité

LOCATION:Musée national de l'Éducation, centre de ressources, 6 rue de Bihorel
, Rouen
END:VEVENT
END:VCALENDAR
