BEGIN:VCALENDAR
VERSION:2.0
PRODID:-//rfr/addtomycal//NONSGML v1.0//EN
BEGIN:VEVENT
UID:rouen.fr
DTSTAMP:20260420T074409Z
DTSTART:20250320T230000Z
DTEND:20250320T230000Z
SUMMARY:Les rencontres du cont(r)e de l'Axe Seine
DESCRIPTION:rencontre - Événement
 - tout public - Gratuit, sur inscription
 - Rens. : www.echelleinconnue.net
 - Proposé par Échelle inconnue
Programmation en cours

LOCATION:Échelle inconnue, 11
END:VEVENT
END:VCALENDAR
