BEGIN:VCALENDAR
VERSION:2.0
PRODID:-//rfr/addtomycal//NONSGML v1.0//EN
BEGIN:VEVENT
UID:rouen.fr
DTSTAMP:20260426T012823Z
DTSTART:20250322T093000Z
DTEND:20250322T093000Z
SUMMARY:Musique et doudou
DESCRIPTION:musique - Concert
 - enfant - 5 €
 - Rens. : par téléphone au 02 35 98 74 78, par mail à billetterie@operaderouen.fr et sur www.operaderouen.fr
 - Public : 0
LOCATION:4 ans
Durée : 30 minutes

END:VEVENT
END:VCALENDAR
