BEGIN:VCALENDAR
VERSION:2.0
PRODID:-//rfr/addtomycal//NONSGML v1.0//EN
BEGIN:VEVENT
UID:rouen.fr
DTSTAMP:20260424T140428Z
DTSTART:20250325T133000Z
DTEND:20250325T133000Z
SUMMARY:Thé dansant
DESCRIPTION:spectacle - Bal
 - senior - Sur inscription au 02 32 08 60 80
 -  - Réservé aux Rouennais de + de 60 ans, sur présentation d'une pièce d'identité et d'un justificatif de domicile
Animé par Les Andrews
Ouverture des portes à 14h

LOCATION:Halle aux toiles, place de la Basse Vieille Tour
, Rouen
END:VEVENT
END:VCALENDAR
