BEGIN:VCALENDAR
VERSION:2.0
PRODID:-//rfr/addtomycal//NONSGML v1.0//EN
BEGIN:VEVENT
UID:rouen.fr
DTSTAMP:20260421T211200Z
DTSTART:20250325T180000Z
DTEND:20250325T180000Z
SUMMARY:La voix humaine
DESCRIPTION:spectacle - Rouen donne des elles
 - tout public - Gratuit, sur inscription
 - Rens. et inscriptions en ligne sur https:
LOCATION:
END:VEVENT
END:VCALENDAR
