BEGIN:VCALENDAR
VERSION:2.0
PRODID:-//rfr/addtomycal//NONSGML v1.0//EN
BEGIN:VEVENT
UID:rouen.fr
DTSTAMP:20260424T084351Z
DTSTART:20250404T170000Z
DTEND:20250404T170000Z
SUMMARY:De A à Z
DESCRIPTION:spectacle - Musique et danse
 - tout public - Gratuit, sur réservation
 - Rens. : 02 32 08 13 50 et sur www.conservatoirederouen.fr
 - Carte blanche aux lycéens
Par les élèves de la filière S2TMD (Sciences et techniques du théâtre, de la musique et de la danse) du lycée Jeanne-d'Arc de Rouen

LOCATION:Conservatoire de Rouen, 50 avenue de la Porte des Champs (auditorium)
, Rouen
END:VEVENT
END:VCALENDAR
