BEGIN:VCALENDAR
VERSION:2.0
PRODID:-//rfr/addtomycal//NONSGML v1.0//EN
BEGIN:VEVENT
UID:rouen.fr
DTSTAMP:20260420T022542Z
DTSTART:20250416T134500Z
DTEND:20250416T134500Z
SUMMARY:Atelier bricolage - Construction d'un bateau à propulsion élastique
DESCRIPTION:atelier - Atelier
 - enfant - Gratuit, sur inscription
 - Rens. : https:
LOCATION:
END:VEVENT
END:VCALENDAR
