BEGIN:VCALENDAR
VERSION:2.0
PRODID:-//rfr/addtomycal//NONSGML v1.0//EN
BEGIN:VEVENT
UID:rouen.fr
DTSTAMP:20260420T055934Z
DTSTART:20250429T183000Z
DTEND:20250429T183000Z
SUMMARY:Le Bal à Béné
DESCRIPTION:atelier - Bal
 - tout public - De 5 à 15 €
 - Infos : www.rouen.fr
LOCATION:page
END:VEVENT
END:VCALENDAR
