BEGIN:VCALENDAR
VERSION:2.0
PRODID:-//rfr/addtomycal//NONSGML v1.0//EN
BEGIN:VEVENT
UID:rouen.fr
DTSTAMP:20260420T035834Z
DTSTART:20250514T160000Z
DTEND:20250514T160000Z
SUMMARY:Rencontre avec Annie Duperey
DESCRIPTION:rencontre - Littérature
 - tout public - Gratuit sur réservation
 - Réservation : https:
LOCATION:
END:VEVENT
END:VCALENDAR
