BEGIN:VCALENDAR
VERSION:2.0
PRODID:-//rfr/addtomycal//NONSGML v1.0//EN
BEGIN:VEVENT
UID:rouen.fr
DTSTAMP:20260423T025247Z
DTSTART:20250514T180000Z
DTEND:20250514T180000Z
SUMMARY:Les courts de rattrapage
DESCRIPTION:fête populaire - Cinéma
 - tout public - 5 €
 - Rens. : https:
LOCATION:
END:VEVENT
END:VCALENDAR
