BEGIN:VCALENDAR
VERSION:2.0
PRODID:-//rfr/addtomycal//NONSGML v1.0//EN
BEGIN:VEVENT
UID:rouen.fr
DTSTAMP:20260420T003617Z
DTSTART:20250517T201500Z
DTEND:20250517T201500Z
SUMMARY:Soirée sous la couette
DESCRIPTION:visite - Animation
 - tout public - Gratuit
 -  - Visite réservée à un public de plus de 16 ans - dans le cadre de la Nuit européenne des musées

LOCATION:musée des Beaux-Arts, esplanade Marcel-Duchamp, Rouen
END:VEVENT
END:VCALENDAR
