BEGIN:VCALENDAR
VERSION:2.0
PRODID:-//rfr/addtomycal//NONSGML v1.0//EN
BEGIN:VEVENT
UID:rouen.fr
DTSTAMP:20260424T161824Z
DTSTART:20250521T120000Z
DTEND:20250521T120000Z
SUMMARY:Construire son abri par Sylvie Martinetti 
DESCRIPTION:atelier - Art
 - tout public - Gratuit
 - Rens. : 02 35 08 88 99
 - 
LOCATION:Centre socio-culturel André-malraux
, Rouen
END:VEVENT
END:VCALENDAR
