BEGIN:VCALENDAR
VERSION:2.0
PRODID:-//rfr/addtomycal//NONSGML v1.0//EN
BEGIN:VEVENT
UID:rouen.fr
DTSTAMP:20260424T045520Z
DTSTART:20250521T163000Z
DTEND:20250521T163000Z
SUMMARY:Festival Pint of Science : "Comprendre l'eau autrement : apports de l'IA"
DESCRIPTION:conférence - Culture
 - tout public - 2€
 - Réservations : www.pintofscience.fr
LOCATION:events
END:VEVENT
END:VCALENDAR
