BEGIN:VCALENDAR
VERSION:2.0
PRODID:-//rfr/addtomycal//NONSGML v1.0//EN
BEGIN:VEVENT
UID:rouen.fr
DTSTAMP:20260422T012615Z
DTSTART:20250523T140000Z
DTEND:20250523T140000Z
SUMMARY:Fête des voisins 
DESCRIPTION:fête populaire - Animation
 - tout public - Gratuit
 -  - 
LOCATION:Rue des Halettes
, Rouen
END:VEVENT
END:VCALENDAR
