BEGIN:VCALENDAR
VERSION:2.0
PRODID:-//rfr/addtomycal//NONSGML v1.0//EN
BEGIN:VEVENT
UID:rouen.fr
DTSTAMP:20260420T073746Z
DTSTART:20250523T150000Z
DTEND:20250523T150000Z
SUMMARY:"Le patrimoine de Rouen à l'épreuve de la Seconde Guerre mondiale et de la reconstruction"
DESCRIPTION:conférence - Conférence
 - tout public - Gratuit, sans réservation
 - Plus d'infos sur https:
LOCATION:
END:VEVENT
END:VCALENDAR
