BEGIN:VCALENDAR
VERSION:2.0
PRODID:-//rfr/addtomycal//NONSGML v1.0//EN
BEGIN:VEVENT
UID:rouen.fr
DTSTAMP:20260421T015721Z
DTSTART:20250524T160000Z
DTEND:20250524T160000Z
SUMMARY:Le Petit Choeur (d’après le Choeur des femmes de Martin Winckler)
DESCRIPTION:spectacle - Théâtre
 - tout public - Gratuit
 - Réservation obligatoire via www.curieuxprintemps.fr - Rens. : 02 32 08 13 90
 - Par la Cie Actes Uniques - A partir de 13 ans - Dans le cadre du festival Curieux Printemps

LOCATION:Centre Jean-Texcier (78 rue Jean-Texcier), Rouen
END:VEVENT
END:VCALENDAR
