BEGIN:VCALENDAR
VERSION:2.0
PRODID:-//rfr/addtomycal//NONSGML v1.0//EN
BEGIN:VEVENT
UID:rouen.fr
DTSTAMP:20260420T040710Z
DTSTART:20250524T180000Z
DTEND:20250524T180000Z
SUMMARY:Fred Nemo
DESCRIPTION:musique - Concert de rock
 - tout public - 9 €
 - Rens.: frednemomusic@gmail.com
 - 
LOCATION:Foyer des marins
, Rouen
END:VEVENT
END:VCALENDAR
