BEGIN:VCALENDAR
VERSION:2.0
PRODID:-//rfr/addtomycal//NONSGML v1.0//EN
BEGIN:VEVENT
UID:rouen.fr
DTSTAMP:20260419T190604Z
DTSTART:20250525T080000Z
DTEND:20250525T080000Z
SUMMARY:Festival RAR week-end
DESCRIPTION:fête populaire - Art
 - tout public - Gratuit
 - Site Internet : www.rar-weekend.com
 - RAR pour "Réunion des antiquaires rouennais" - Création d'un parcours dans les rues de Rouen reliant les vitrines les unes aux autres

LOCATION:Antiquaires, galeristes et brocanteurs
, Rouen
END:VEVENT
END:VCALENDAR
