BEGIN:VCALENDAR
VERSION:2.0
PRODID:-//rfr/addtomycal//NONSGML v1.0//EN
BEGIN:VEVENT
UID:rouen.fr
DTSTAMP:20260423T191817Z
DTSTART:20250527T160000Z
DTEND:20250527T160000Z
SUMMARY:Réunion publique Rouen Métropole 2050
DESCRIPTION:atelier - Concertation publique
 - tout public - Gratuit sur inscription
 - Inscription : https:
LOCATION:
END:VEVENT
END:VCALENDAR
