BEGIN:VCALENDAR
VERSION:2.0
PRODID:-//rfr/addtomycal//NONSGML v1.0//EN
BEGIN:VEVENT
UID:rouen.fr
DTSTAMP:20260420T225736Z
DTSTART:20250528T090000Z
DTEND:20250528T090000Z
SUMMARY:Forum de l'emploi
DESCRIPTION:salon - Emploi
 - tout public - Gratuit
 - Rens. : https:
LOCATION:
END:VEVENT
END:VCALENDAR
