BEGIN:VCALENDAR
VERSION:2.0
PRODID:-//rfr/addtomycal//NONSGML v1.0//EN
BEGIN:VEVENT
UID:rouen.fr
DTSTAMP:20260420T074057Z
DTSTART:20250529T130000Z
DTEND:20250529T130000Z
SUMMARY:Sur les pas de Jeanne d'Arc
DESCRIPTION:visite - Animation
 - tout public - 12 € (TR 9 € - gratuit pour les moins de 12 ans)
 - Réservation obligatoire : www.visiterouen.com
 - Dans le cadre des fêtes Jeanne d'Arc

LOCATION:dans toute la ville, Rouen
END:VEVENT
END:VCALENDAR
