BEGIN:VCALENDAR
VERSION:2.0
PRODID:-//rfr/addtomycal//NONSGML v1.0//EN
BEGIN:VEVENT
UID:rouen.fr
DTSTAMP:20260422T073939Z
DTSTART:20250529T220000Z
DTEND:20250529T220000Z
SUMMARY:Tir à l'arbalète
DESCRIPTION:fête populaire - Animation
 - tout public - Gratuit
 -  - Dans le cadre des Fêtes Jeanne d'Arc

LOCATION:place du Vieux-Marché, Rouen
END:VEVENT
END:VCALENDAR
