BEGIN:VCALENDAR
VERSION:2.0
PRODID:-//rfr/addtomycal//NONSGML v1.0//EN
BEGIN:VEVENT
UID:rouen.fr
DTSTAMP:20260424T233606Z
DTSTART:20250530T123000Z
DTEND:20250530T123000Z
SUMMARY:La confrérie du cerbère
DESCRIPTION:fête populaire - Déambulation
 - tout public - Gratuit
 -  - Départ de la place Saint-Sever - dans le cadre des fêtes Jeanne d'Arc

LOCATION:Place Saint-Sever, Rouen
END:VEVENT
END:VCALENDAR
