BEGIN:VCALENDAR
VERSION:2.0
PRODID:-//rfr/addtomycal//NONSGML v1.0//EN
BEGIN:VEVENT
UID:rouen.fr
DTSTAMP:20260421T075736Z
DTSTART:20250618T090000Z
DTEND:20250618T090000Z
SUMMARY:Permanence de l'Adie
DESCRIPTION:rencontre - Entrepreneuriat
 - tout public - Gratuit
 -  - Au kiosque de la Ville, dans le cadre des permanences de proximité

LOCATION:place Saint-Sever, Rouen
END:VEVENT
END:VCALENDAR
