BEGIN:VCALENDAR
VERSION:2.0
PRODID:-//rfr/addtomycal//NONSGML v1.0//EN
BEGIN:VEVENT
UID:rouen.fr
DTSTAMP:20260422T043719Z
DTSTART:20250619T220000Z
DTEND:20250619T220000Z
SUMMARY:Refugee Food festival
DESCRIPTION:rencontre - Gastronomie
 - tout public - Payant
 -  - 
LOCATION:Comptoir latino, rue de l'Ancienne Prison, Rouen
END:VEVENT
END:VCALENDAR
