BEGIN:VCALENDAR
VERSION:2.0
PRODID:-//rfr/addtomycal//NONSGML v1.0//EN
BEGIN:VEVENT
UID:rouen.fr
DTSTAMP:20260421T040745Z
DTSTART:20250621T220000Z
DTEND:20250621T220000Z
SUMMARY:Vide-grenier Grand-Pont
DESCRIPTION:Cathédrale
LOCATION:fête populaire - Animation
 - tout public - Gratuit
 -  - Par le comité de quartier Grand-Pont
END:VEVENT
END:VCALENDAR
