BEGIN:VCALENDAR
VERSION:2.0
PRODID:-//rfr/addtomycal//NONSGML v1.0//EN
BEGIN:VEVENT
UID:rouen.fr
DTSTAMP:20260423T071801Z
DTSTART:20250623T170000Z
DTEND:20250623T170000Z
SUMMARY:Rdv sports - Danse fitness
DESCRIPTION:sport - Sport
 - tout public - Gratuit
 - Rens. : www.metropole-rouen-normandie.fr
 - Tout public et tout niveau
Avec Angélique Fournier
Durée : 1h30
Proposé par la Métropole Rouen Normandie

LOCATION:Kindarena, 40 rue de Lillebonne, Rouen
END:VEVENT
END:VCALENDAR
