BEGIN:VCALENDAR
VERSION:2.0
PRODID:-//rfr/addtomycal//NONSGML v1.0//EN
BEGIN:VEVENT
UID:rouen.fr
DTSTAMP:20260420T232007Z
DTSTART:20250625T113000Z
DTEND:20250625T113000Z
SUMMARY:Village Rouen le sport en capitale 
DESCRIPTION:sport - Animation
 - enfant - Gratuit
 -  - 
LOCATION:Kindarena , Rouen
END:VEVENT
END:VCALENDAR
