BEGIN:VCALENDAR
VERSION:2.0
PRODID:-//rfr/addtomycal//NONSGML v1.0//EN
BEGIN:VEVENT
UID:rouen.fr
DTSTAMP:20260420T002149Z
DTSTART:20250629T080000Z
DTEND:20250629T080000Z
SUMMARY:Sophrologie et bien-être : lâcher prise et se projeter positivement
DESCRIPTION:atelier - Animation
 - tout public - Gratuit sur inscription
 - Inscription par mail : sophrologieasso7627@gmail.com - Rens. : 06 22 76 35 26
 - Organisé par l'association Sophrologie Asso 76-27

LOCATION:Maison de quartier cloître des Pénitents, 8 allée Daniel-Lavallée , Rouen
END:VEVENT
END:VCALENDAR
