BEGIN:VCALENDAR
VERSION:2.0
PRODID:-//rfr/addtomycal//NONSGML v1.0//EN
BEGIN:VEVENT
UID:rouen.fr
DTSTAMP:20260421T062501Z
DTSTART:20250703T160000Z
DTEND:20250703T160000Z
SUMMARY:Les Terrasses du Jeudi - Samba de Mesa 
DESCRIPTION:musique - Concert
 - tout public - Gratuit
 - www.terrassesdujeudi.fr
 - Bienvenue à table

LOCATION:Place du 19 avril 1944, Rouen
END:VEVENT
END:VCALENDAR
