BEGIN:VCALENDAR
VERSION:2.0
PRODID:-//rfr/addtomycal//NONSGML v1.0//EN
BEGIN:VEVENT
UID:rouen.fr
DTSTAMP:20260422T023110Z
DTSTART:20250705T150000Z
DTEND:20250705T200000Z
SUMMARY:La Mascarade foraine
DESCRIPTION:fête populaire - Bal folklorique
 - tout public - Gratuit
 - www.aitresaintmaclou.fr
LOCATION:event
END:VEVENT
END:VCALENDAR
