BEGIN:VCALENDAR
VERSION:2.0
PRODID:-//rfr/addtomycal//NONSGML v1.0//EN
BEGIN:VEVENT
UID:rouen.fr
DTSTAMP:20260420T074239Z
DTSTART:20250706T123000Z
DTEND:20250706T123000Z
SUMMARY:Création de Mandala en famille 
DESCRIPTION:atelier - Rouen Sur Mer
 - tout public - Gratuit
 -  - Mise en couleurs de Mandalas et création de Mandalas avec un thème (Mandala structures, intuitifs, géométrie sacrée, land art…)
• Par Nadège Leneutre
En continue jusqu’à 18h30
A partir de 8 ans

LOCATION:Site de Rouen sur mer, quais bas rive gauche (Au Tipi Atelier)
, Rouen
END:VEVENT
END:VCALENDAR
