BEGIN:VCALENDAR
VERSION:2.0
PRODID:-//rfr/addtomycal//NONSGML v1.0//EN
BEGIN:VEVENT
UID:rouen.fr
DTSTAMP:20260420T035401Z
DTSTART:20250708T143000Z
DTEND:20250708T143000Z
SUMMARY:Massage assis
DESCRIPTION:atelier - Rouen Sur Mer
 - tout public - Gratuit
 -  - Cette technique manuelle de bien-être et de relaxation est pratiquée habillé sur une chaise ergonomique que les praticiens vont adapter à votre morphologie pour une position de détente optimale. Les mouvements s’effectuent de la tête aux hanches en passant par le cuir chevelu, la nuque, les épaules, les bras, les mains et le dos. Le massage bien-être assis a pour vocation de vous détendre et d’apaiser vos tensions musculaires dans un 1er temps, mais également de vous ré-énergiser, de vous rebooster et de vous stimuler dans un second temps
Par Bertrand Charrier, Ruth Grenier et Sophie Durremberger
En continu jusqu’à 19h30
A partir de 6 ans
Sur inscription à l’accueil

LOCATION:Site de Rouen sur mer, esplanade des Mariniers - Espace bien-être
, Rouen
END:VEVENT
END:VCALENDAR
