BEGIN:VCALENDAR
VERSION:2.0
PRODID:-//rfr/addtomycal//NONSGML v1.0//EN
BEGIN:VEVENT
UID:rouen.fr
DTSTAMP:20260425T112832Z
DTSTART:20250710T171500Z
DTEND:20250710T171500Z
SUMMARY:Les Terrasses du Jeudi - Amélie Affagard " Et si la vie.." 
DESCRIPTION:musique - Concert
 - tout public - Gratuit
 - www.terrassesdujeudi.fr
 - Accordéon virtuose

LOCATION:Rue Eau-de-Robec
, Rouen
END:VEVENT
END:VCALENDAR
