BEGIN:VCALENDAR
VERSION:2.0
PRODID:-//rfr/addtomycal//NONSGML v1.0//EN
BEGIN:VEVENT
UID:rouen.fr
DTSTAMP:20260421T072457Z
DTSTART:20250719T120000Z
DTEND:20250719T120000Z
SUMMARY:Judo et Jujitsu Brésilien      
DESCRIPTION:sport - Rouen Sur Mer
 - tout public - Gratuit
 -  - Initiation et pratique sur tatamis
Proposé par le Judo Club du Grand Rouen
De 12 à 40 ans pour le Jujitsu et de 4 à 18 ans pour le judo
En continu jusqu'à 18h
15 à 20 personnes

LOCATION:Site de Rouen sur mer, esplanade des Mariniers - Village Terre de Jeux, Rouen
END:VEVENT
END:VCALENDAR
