BEGIN:VCALENDAR
VERSION:2.0
PRODID:-//rfr/addtomycal//NONSGML v1.0//EN
BEGIN:VEVENT
UID:rouen.fr
DTSTAMP:20260423T174209Z
DTSTART:20250726T120000Z
DTEND:20250726T120000Z
SUMMARY:Canoë Kayak 
DESCRIPTION:sport - Rouen Sur Mer
 - tout public - Gratuit
 -  - Découverte de la navigation en kayak biplace sur la seine, ou monoplace ou Paddle en fonction des conditions de navigation et de l'affluence. 16 personnes en kayak, 10 en paddle et dragon boat sur la seine  Adultes et jeunes à partir de 12 ans avec un adulte accompagnateur
Jusqu’à 16h30

LOCATION:Halte nautique Jacques Anquetil 
END:VEVENT
END:VCALENDAR
