BEGIN:VCALENDAR
VERSION:2.0
PRODID:-//rfr/addtomycal//NONSGML v1.0//EN
BEGIN:VEVENT
UID:rouen.fr
DTSTAMP:20260420T041734Z
DTSTART:20250730T083000Z
DTEND:20250730T083000Z
SUMMARY:Le musée du bout des doigts
DESCRIPTION:visite - Nature
 - enfant - 5 €
 - Sur réservation : 02 35 71 41 50 ou par mail : publics2@musees-rouen-normandie.fr
 - Pour les 3-5 ans - présence d'un adulte obligatoire - visite contée et maniement de plumes et écailles

LOCATION:Musée Beauvoisine, 198 rue Beauvoisine
, Rouen
END:VEVENT
END:VCALENDAR
